BEGIN:VCALENDAR
VERSION:2.0
PRODID:-//GCDD Making a Difference Magazine - ECPv5.3.2.1//NONSGML v1.0//EN
CALSCALE:GREGORIAN
METHOD:PUBLISH
X-WR-CALNAME:GCDD Making a Difference Magazine
X-ORIGINAL-URL:https://magazine.gcdd.org
X-WR-CALDESC:Events for GCDD Making a Difference Magazine
BEGIN:VTIMEZONE
TZID:America/New_York
BEGIN:DAYLIGHT
TZOFFSETFROM:-0500
TZOFFSETTO:-0400
TZNAME:EDT
DTSTART:20200308T070000
END:DAYLIGHT
BEGIN:STANDARD
TZOFFSETFROM:-0400
TZOFFSETTO:-0500
TZNAME:EST
DTSTART:20201101T060000
END:STANDARD
END:VTIMEZONE
BEGIN:VEVENT
DTSTART;TZID=America/New_York:20201215T140000
DTEND;TZID=America/New_York:20201215T150000
DTSTAMP:20210519T044637
CREATED:20201215T162114Z
LAST-MODIFIED:20201215T162114Z
UID:1347-1608040800-1608044400@magazine.gcdd.org
SUMMARY:A Year in Review: An Advancing Employment Panel on ACRE\, the CoP\, and What’s Up Next!
DESCRIPTION:Advancing Employment Seminar \n\nDoug Crandell\, MFA\, Director of Advancing Employment Technical Assistance Center\, Institute on Human Development & Disability\, Center for Excellence in Developmental Disabilities Education\, Research & Service (UCEDD)\n\nJoin us for an informative and entertaining forum with panelists from Georgia’s Community of Practice. The panel will include people who’ve gone through ACRE training\, a GVRA counselor or two\, and maybe even a couple of surprise guests. We will discuss training\, collaboration\, and momentum regarding topics as wide-ranging as supported self-employment\, economic development\, credentialing\, and social capital. Don’t miss the finale in our autumn-winter 2020 webinar series! Registration Link: https://zoom.us/meeting/register/tJwrdO2srj8rH9bIs84G6FG7RHgo0C3mJnJ5
URL:https://magazine.gcdd.org/event/a-year-in-review-an-advancing-employment-panel-on-acre-the-cop-and-whats-up-next/
CATEGORIES:General Events
END:VEVENT
END:VCALENDAR